BEGIN:VCALENDAR
VERSION:2.0
PRODID:-//North Summit Recreation - ECPv6.15.15//NONSGML v1.0//EN
CALSCALE:GREGORIAN
METHOD:PUBLISH
X-ORIGINAL-URL:https://northsummitrec.com
X-WR-CALDESC:Events for North Summit Recreation
REFRESH-INTERVAL;VALUE=DURATION:PT1H
X-Robots-Tag:noindex
X-PUBLISHED-TTL:PT1H
BEGIN:VTIMEZONE
TZID:America/Denver
BEGIN:DAYLIGHT
TZOFFSETFROM:-0700
TZOFFSETTO:-0600
TZNAME:MDT
DTSTART:20210314T090000
END:DAYLIGHT
BEGIN:STANDARD
TZOFFSETFROM:-0600
TZOFFSETTO:-0700
TZNAME:MST
DTSTART:20211107T080000
END:STANDARD
BEGIN:DAYLIGHT
TZOFFSETFROM:-0700
TZOFFSETTO:-0600
TZNAME:MDT
DTSTART:20220313T090000
END:DAYLIGHT
BEGIN:STANDARD
TZOFFSETFROM:-0600
TZOFFSETTO:-0700
TZNAME:MST
DTSTART:20221106T080000
END:STANDARD
BEGIN:DAYLIGHT
TZOFFSETFROM:-0700
TZOFFSETTO:-0600
TZNAME:MDT
DTSTART:20230312T090000
END:DAYLIGHT
BEGIN:STANDARD
TZOFFSETFROM:-0600
TZOFFSETTO:-0700
TZNAME:MST
DTSTART:20231105T080000
END:STANDARD
END:VTIMEZONE
BEGIN:VEVENT
DTSTART;TZID=America/Denver:20220714T080000
DTEND;TZID=America/Denver:20220814T170000
DTSTAMP:20260425T190828
CREATED:20220714T170153Z
LAST-MODIFIED:20251015T204006Z
UID:10000380-1657785600-1660496400@northsummitrec.com
SUMMARY:Soccer Registration is now open
DESCRIPTION:https://north-summit-recreation-special-service-district.sportngin.com/register/form/206621679 \nRegister now for fall soccer. Soccer will be played at the Summit County Fairgrounds on Tues/Thurs evenings starting Aug 30th. \n 
URL:https://northsummitrec.com/event/soccer-registration-is-now-open-2/
LOCATION:UT
CATEGORIES:Youth Sports
END:VEVENT
BEGIN:VEVENT
DTSTART;TZID=America/Denver:20220714T080000
DTEND;TZID=America/Denver:20220814T170000
DTSTAMP:20260425T190828
CREATED:20220714T170153Z
LAST-MODIFIED:20251015T204011Z
UID:10000381-1657785600-1660496400@northsummitrec.com
SUMMARY:Soccer Registration is now open
DESCRIPTION:https://north-summit-recreation-special-service-district.sportngin.com/register/form/206621679 \nRegister now for fall soccer. Soccer will be played at the Summit County Fairgrounds on Tues/Thurs evenings starting Aug 30th. \n 
URL:https://northsummitrec.com/event/soccer-registration-is-now-open-2-2/
LOCATION:UT
CATEGORIES:Youth Sports
END:VEVENT
BEGIN:VEVENT
DTSTART;VALUE=DATE:20220802
DTEND;VALUE=DATE:20220803
DTSTAMP:20260425T190828
CREATED:20220507T111246Z
LAST-MODIFIED:20251015T203734Z
UID:10000370-1659398400-1659484799@northsummitrec.com
SUMMARY:Athletic Development Training
DESCRIPTION:Agility-Speed-Movement-Confidence\nWork on speed\, agility\, footwork and strength with this summer’s athletic development training! 8 sessions will be held on Tuesdays and Thursdays starting July 7th through August 2nd. Trainings will be head in a variety of locations around the North Summit School District. \nLearn More\n 
URL:https://northsummitrec.com/event/athletic-development-training-9/
LOCATION:UT
CATEGORIES:Youth Sports
END:VEVENT
BEGIN:VEVENT
DTSTART;VALUE=DATE:20220802
DTEND;VALUE=DATE:20220803
DTSTAMP:20260425T190828
CREATED:20220507T111246Z
LAST-MODIFIED:20251015T203813Z
UID:10000371-1659398400-1659484799@northsummitrec.com
SUMMARY:Athletic Development Training
DESCRIPTION:Agility-Speed-Movement-Confidence\nWork on speed\, agility\, footwork and strength with this summer’s athletic development training! 8 sessions will be held on Tuesdays and Thursdays starting July 7th through August 2nd. Trainings will be head in a variety of locations around the North Summit School District. \nLearn More\n 
URL:https://northsummitrec.com/event/athletic-development-training-9-2/
LOCATION:UT
CATEGORIES:Youth Sports
END:VEVENT
BEGIN:VEVENT
DTSTART;TZID=America/Denver:20220808T180000
DTEND;TZID=America/Denver:20220808T193000
DTSTAMP:20260425T190828
CREATED:20220113T104917Z
LAST-MODIFIED:20251015T203742Z
UID:10000327-1659981600-1659987000@northsummitrec.com
SUMMARY:NSRSSD Advisor Board Meeting
DESCRIPTION:
URL:https://northsummitrec.com/event/nsrssd-advisor-board-meeting-15/
LOCATION:Ledges Event Center – Coalville\, 202 Park Road\, Coalville\, UT\, 84017
CATEGORIES:Board Meetings
END:VEVENT
BEGIN:VEVENT
DTSTART;TZID=America/Denver:20220808T180000
DTEND;TZID=America/Denver:20220808T193000
DTSTAMP:20260425T190828
CREATED:20220113T104917Z
LAST-MODIFIED:20251015T203738Z
UID:10000328-1659981600-1659987000@northsummitrec.com
SUMMARY:NSRSSD Advisor Board Meeting
DESCRIPTION:
URL:https://northsummitrec.com/event/nsrssd-advisor-board-meeting-15-2/
LOCATION:Ledges Event Center – Coalville\, 202 Park Road\, Coalville\, UT\, 84017
CATEGORIES:Board Meetings
END:VEVENT
BEGIN:VEVENT
DTSTART;VALUE=DATE:20220809
DTEND;VALUE=DATE:20220810
DTSTAMP:20260425T190828
CREATED:20220517T141904Z
LAST-MODIFIED:20251015T203805Z
UID:10000318-1660003200-1660089599@northsummitrec.com
SUMMARY:Gymkhana Series Event
DESCRIPTION:Time TBD \n  \nView Details\n 
URL:https://northsummitrec.com/event/gymkhana-series-event-3/
LOCATION:Summit County Fair Grounds\, 202 Park Rd\, Coalville\, UT\, 84017
CATEGORIES:Adult Sports,Youth Sports
END:VEVENT
BEGIN:VEVENT
DTSTART;VALUE=DATE:20220809
DTEND;VALUE=DATE:20220810
DTSTAMP:20260425T190828
CREATED:20220517T141904Z
LAST-MODIFIED:20251015T203745Z
UID:10000320-1660003200-1660089599@northsummitrec.com
SUMMARY:Gymkhana Series Event
DESCRIPTION:Time TBD \n  \nView Details\n 
URL:https://northsummitrec.com/event/gymkhana-series-event-3-2/
LOCATION:Summit County Fair Grounds\, 202 Park Rd\, Coalville\, UT\, 84017
CATEGORIES:Adult Sports,Youth Sports
END:VEVENT
BEGIN:VEVENT
DTSTART;TZID=America/Denver:20220824T080000
DTEND;TZID=America/Denver:20220930T170000
DTSTAMP:20260425T190828
CREATED:20220824T214154Z
LAST-MODIFIED:20251015T203751Z
UID:10000384-1661328000-1664557200@northsummitrec.com
SUMMARY:SOCCER SCHEDULES/TEAMS
DESCRIPTION:2022 Pre K_Kindergarten Schedule \n2022 1&2 Grade Soccer Schedule  \n2022 Soccer Schedule 3rd and 4th Grade  \n5-8 Grade Soccer
URL:https://northsummitrec.com/event/soccer-schedules-teams/
LOCATION:UT
CATEGORIES:Youth Sports
END:VEVENT
BEGIN:VEVENT
DTSTART;TZID=America/Denver:20220824T080000
DTEND;TZID=America/Denver:20220930T170000
DTSTAMP:20260425T190828
CREATED:20220824T214154Z
LAST-MODIFIED:20251015T203755Z
UID:10000385-1661328000-1664557200@northsummitrec.com
SUMMARY:SOCCER SCHEDULES/TEAMS
DESCRIPTION:2022 Pre K_Kindergarten Schedule \n2022 1&2 Grade Soccer Schedule  \n2022 Soccer Schedule 3rd and 4th Grade  \n5-8 Grade Soccer
URL:https://northsummitrec.com/event/soccer-schedules-teams-2/
LOCATION:UT
CATEGORIES:Youth Sports
END:VEVENT
END:VCALENDAR