BEGIN:VCALENDAR
VERSION:2.0
PRODID:-//North Summit Recreation - ECPv6.15.15//NONSGML v1.0//EN
CALSCALE:GREGORIAN
METHOD:PUBLISH
X-WR-CALNAME:North Summit Recreation
X-ORIGINAL-URL:https://northsummitrec.com
X-WR-CALDESC:Events for North Summit Recreation
REFRESH-INTERVAL;VALUE=DURATION:PT1H
X-Robots-Tag:noindex
X-PUBLISHED-TTL:PT1H
BEGIN:VTIMEZONE
TZID:America/Denver
BEGIN:DAYLIGHT
TZOFFSETFROM:-0700
TZOFFSETTO:-0600
TZNAME:MDT
DTSTART:20220313T090000
END:DAYLIGHT
BEGIN:STANDARD
TZOFFSETFROM:-0600
TZOFFSETTO:-0700
TZNAME:MST
DTSTART:20221106T080000
END:STANDARD
BEGIN:DAYLIGHT
TZOFFSETFROM:-0700
TZOFFSETTO:-0600
TZNAME:MDT
DTSTART:20230312T090000
END:DAYLIGHT
BEGIN:STANDARD
TZOFFSETFROM:-0600
TZOFFSETTO:-0700
TZNAME:MST
DTSTART:20231105T080000
END:STANDARD
BEGIN:DAYLIGHT
TZOFFSETFROM:-0700
TZOFFSETTO:-0600
TZNAME:MDT
DTSTART:20240310T090000
END:DAYLIGHT
BEGIN:STANDARD
TZOFFSETFROM:-0600
TZOFFSETTO:-0700
TZNAME:MST
DTSTART:20241103T080000
END:STANDARD
BEGIN:DAYLIGHT
TZOFFSETFROM:-0700
TZOFFSETTO:-0600
TZNAME:MDT
DTSTART:20250309T090000
END:DAYLIGHT
BEGIN:STANDARD
TZOFFSETFROM:-0600
TZOFFSETTO:-0700
TZNAME:MST
DTSTART:20251102T080000
END:STANDARD
BEGIN:DAYLIGHT
TZOFFSETFROM:-0700
TZOFFSETTO:-0600
TZNAME:MDT
DTSTART:20260308T090000
END:DAYLIGHT
BEGIN:STANDARD
TZOFFSETFROM:-0600
TZOFFSETTO:-0700
TZNAME:MST
DTSTART:20261101T080000
END:STANDARD
END:VTIMEZONE
BEGIN:VEVENT
DTSTART;TZID=America/Denver:20230905T080000
DTEND;TZID=America/Denver:20231005T170000
DTSTAMP:20260419T093126
CREATED:20230803T213514Z
LAST-MODIFIED:20250616T194304Z
UID:10000439-1693900800-1696525200@northsummitrec.com
SUMMARY:Soccer Registration
DESCRIPTION:https://north-summit-recreation-special-service-district.sportngin.com/register/form/580278570 \n 
URL:https://northsummitrec.com/event/soccer-registration/
LOCATION:UT
CATEGORIES:Youth Sports
END:VEVENT
BEGIN:VEVENT
DTSTART;VALUE=DATE:20230909
DTEND;VALUE=DATE:20230910
DTSTAMP:20260419T093126
CREATED:20230811T004258Z
LAST-MODIFIED:20250616T194310Z
UID:10000444-1694217600-1694303999@northsummitrec.com
SUMMARY:James Family Reunion-Park Reservation
DESCRIPTION:Beacon Hill Park will be reserved for the James Family from 12-4 PM on September 9th
URL:https://northsummitrec.com/event/james-family-reunion-park-reservation/
LOCATION:UT
CATEGORIES:Beacon Hill Park Reservations
END:VEVENT
BEGIN:VEVENT
DTSTART;TZID=America/Denver:20230911T080000
DTEND;TZID=America/Denver:20230911T170000
DTSTAMP:20260419T093126
CREATED:20230106T040120Z
LAST-MODIFIED:20250616T194318Z
UID:10000403-1694419200-1694451600@northsummitrec.com
SUMMARY:NSRSSD Advisor Board Meeting-Cancelled
DESCRIPTION:Our Meeting for 9/11/23 has been cancelled due to technical difficulties. \n  \nBoard meetings are held at 6:30 at the Summit County Court House in Coalville.
URL:https://northsummitrec.com/event/nsrssd-advisor-board-meeting-28/
LOCATION:UT
CATEGORIES:Board Meetings
END:VEVENT
BEGIN:VEVENT
DTSTART;TZID=America/Denver:20230911T080000
DTEND;TZID=America/Denver:20230911T170000
DTSTAMP:20260419T093126
CREATED:20230910T235649Z
LAST-MODIFIED:20250616T194213Z
UID:10000446-1694419200-1694451600@northsummitrec.com
SUMMARY:September 11th Board Meeting has been CANCELLED
DESCRIPTION:Our meeting scheduled for tomorrow 9/11/23 has been cancelled due to technical difficulties. \n 
URL:https://northsummitrec.com/event/september-11th-board-meeting-has-been-cancelled/
LOCATION:UT
CATEGORIES:Youth Sports
END:VEVENT
BEGIN:VEVENT
DTSTART;TZID=America/Denver:20230927T183000
DTEND;TZID=America/Denver:20230927T183000
DTSTAMP:20260419T093126
CREATED:20230927T025557Z
LAST-MODIFIED:20250616T194206Z
UID:10000447-1695839400-1695839400@northsummitrec.com
SUMMARY:Special Meeting 9-27-2023
DESCRIPTION:NSRSSD Agenda 9-27-23 \n 
URL:https://northsummitrec.com/event/special-meeting-9-27-2023/
LOCATION:UT
CATEGORIES:Board Meetings,Youth Sports
END:VEVENT
BEGIN:VEVENT
DTSTART;TZID=America/Denver:20231009T183000
DTEND;TZID=America/Denver:20231009T200000
DTSTAMP:20260419T093126
CREATED:20230106T040219Z
LAST-MODIFIED:20250616T194323Z
UID:10000404-1696876200-1696881600@northsummitrec.com
SUMMARY:NSRSSD Advisor Board Meeting
DESCRIPTION:Board meetings are held at 6:30 at the Summit County Court House in Coalville. \nNSRSSD Agenda 10-9-23
URL:https://northsummitrec.com/event/nsrssd-advisor-board-meeting-29/
LOCATION:Summit County Courthouse\, 60 N Main St\, Coalville\, UT\, 84017\, United States
CATEGORIES:Board Meetings
END:VEVENT
BEGIN:VEVENT
DTSTART;TZID=America/Denver:20231024T183000
DTEND;TZID=America/Denver:20231024T200000
DTSTAMP:20260419T093126
CREATED:20231024T024909Z
LAST-MODIFIED:20250616T194429Z
UID:10000449-1698172200-1698177600@northsummitrec.com
SUMMARY:Special Meeting- Preliminary Budget Meeting
DESCRIPTION:2024 NSSRD Budget Draft_ \n  \nMeeting held at 6:30 PM10-24-2023 at the Summit County Courthouse
URL:https://northsummitrec.com/event/special-meeting-preliminary-budget-meeting/
LOCATION:UT
CATEGORIES:Youth Sports
END:VEVENT
BEGIN:VEVENT
DTSTART;TZID=America/Denver:20231113T080000
DTEND;TZID=America/Denver:20231113T170000
DTSTAMP:20260419T093126
CREATED:20230106T040404Z
LAST-MODIFIED:20250616T194329Z
UID:10000405-1699862400-1699894800@northsummitrec.com
SUMMARY:NSRSSD Advisor Board Meeting
DESCRIPTION:NSRSSD Agenda 11-14-23  \nBoard meetings are held at 6:30 at the Summit County Court House in Coalville.
URL:https://northsummitrec.com/event/nsrssd-advisor-board-meeting-30/
LOCATION:Summit County Fair Grounds\, 202 Park Rd\, Coalville\, UT\, 84017
CATEGORIES:Board Meetings
END:VEVENT
BEGIN:VEVENT
DTSTART;TZID=America/Denver:20231209T090000
DTEND;TZID=America/Denver:20231209T120000
DTSTAMP:20260419T093126
CREATED:20231205T161413Z
LAST-MODIFIED:20250616T194333Z
UID:10000463-1702112400-1702123200@northsummitrec.com
SUMMARY:Youth Basketball Season Starts
DESCRIPTION:Play starts December 9th and goes for 8 weeks. Games will be played on Saturday’s. No basketball games will be played on December 23rd or Dec 30th. Pk-4th will practice first 20-30 mins before games. 3-8th grades will be occasionally traveling for games to Park City and Kamas. \nView Details
URL:https://northsummitrec.com/event/youth-basketball-season-starts/
LOCATION:UT
CATEGORIES:Youth Sports
END:VEVENT
BEGIN:VEVENT
DTSTART;TZID=America/Denver:20231211T183000
DTEND;TZID=America/Denver:20231211T200000
DTSTAMP:20260419T093126
CREATED:20230106T040557Z
LAST-MODIFIED:20250616T194338Z
UID:10000406-1702319400-1702324800@northsummitrec.com
SUMMARY:NSRSSD Advisor Board Meeting
DESCRIPTION:Board meetings are held at 6:30 at the Summit County Court House in Coalville.
URL:https://northsummitrec.com/event/nsrssd-advisor-board-meeting-31/
LOCATION:Summit County Courthouse\, 60 N Main St\, Coalville\, UT\, 84017\, United States
CATEGORIES:Board Meetings
END:VEVENT
BEGIN:VEVENT
DTSTART;TZID=America/Denver:20231213T180000
DTEND;TZID=America/Denver:20231213T200000
DTSTAMP:20260419T093126
CREATED:20231207T152231Z
LAST-MODIFIED:20250616T194343Z
UID:10000464-1702490400-1702497600@northsummitrec.com
SUMMARY:Truth In Taxation Public Hearing
DESCRIPTION:Truth in taxation public hearing will take place at the Ledges Event Center. \nNOTICE OF PROPOSED TAX INCREASE
URL:https://northsummitrec.com/event/truth-in-taxation-public-hearing/
LOCATION:Ledges Event Center – Coalville\, 202 Park Road\, Coalville\, UT\, 84017
CATEGORIES:Meetings
END:VEVENT
BEGIN:VEVENT
DTSTART;TZID=America/Denver:20240108T183000
DTEND;TZID=America/Denver:20240108T200000
DTSTAMP:20260419T093126
CREATED:20231130T163205Z
LAST-MODIFIED:20250616T194349Z
UID:10000450-1704738600-1704744000@northsummitrec.com
SUMMARY:NSRSSD Advisor Board Meeting
DESCRIPTION:Board meetings are held at 6:30 at the Summit County Court House in Coalville. \nJanuary 8 Meeting Minutes
URL:https://northsummitrec.com/event/nsrssd-advisor-board-meeting-32/
LOCATION:Summit County Courthouse\, 60 N Main St\, Coalville\, UT\, 84017\, United States
CATEGORIES:Board Meetings
END:VEVENT
BEGIN:VEVENT
DTSTART;TZID=America/Denver:20240212T183000
DTEND;TZID=America/Denver:20240212T200000
DTSTAMP:20260419T093126
CREATED:20231130T163302Z
LAST-MODIFIED:20250616T194355Z
UID:10000451-1707762600-1707768000@northsummitrec.com
SUMMARY:NSRSSD Advisor Board Meeting
DESCRIPTION:Board meetings are held at 6:30 at the Summit County Court House in Coalville. \nFebruary 12 Meeting Minutes
URL:https://northsummitrec.com/event/nsrssd-advisor-board-meeting-33/
LOCATION:Summit County Courthouse\, 60 N Main St\, Coalville\, UT\, 84017\, United States
CATEGORIES:Board Meetings
END:VEVENT
BEGIN:VEVENT
DTSTART;TZID=America/Denver:20240311T183000
DTEND;TZID=America/Denver:20240311T200000
DTSTAMP:20260419T093126
CREATED:20231130T163319Z
LAST-MODIFIED:20250616T194401Z
UID:10000452-1710181800-1710187200@northsummitrec.com
SUMMARY:NSRSSD Advisor Board Meeting
DESCRIPTION:Board meetings are held at 6:30 at the Summit County Court House in Coalville. \nMarch 11 Meeting Agenda \nMarch 11 Meeting Minutes
URL:https://northsummitrec.com/event/nsrssd-advisor-board-meeting-34/
LOCATION:Summit County Courthouse\, 60 N Main St\, Coalville\, UT\, 84017\, United States
CATEGORIES:Board Meetings
END:VEVENT
BEGIN:VEVENT
DTSTART;TZID=America/Denver:20240408T183000
DTEND;TZID=America/Denver:20240408T200000
DTSTAMP:20260419T093126
CREATED:20231130T163337Z
LAST-MODIFIED:20250616T194406Z
UID:10000453-1712601000-1712606400@northsummitrec.com
SUMMARY:NSRSSD Advisor Board Meeting
DESCRIPTION:Board meetings are held at 6:30 at the Summit County Court House in Coalville. \nNSRSSD Agenda 4-8-24 \nNSRSD 4-11-24 Minutes
URL:https://northsummitrec.com/event/nsrssd-advisor-board-meeting-35/
LOCATION:Summit County Courthouse\, 60 N Main St\, Coalville\, UT\, 84017\, United States
CATEGORIES:Board Meetings
END:VEVENT
BEGIN:VEVENT
DTSTART;TZID=America/Denver:20240513T183000
DTEND;TZID=America/Denver:20240513T200000
DTSTAMP:20260419T093126
CREATED:20231130T163359Z
LAST-MODIFIED:20250616T194149Z
UID:10000454-1715625000-1715630400@northsummitrec.com
SUMMARY:NSRSSD Advisor Board Meeting
DESCRIPTION:Board meetings are held at 6:30 at the Summit County Court House in Coalville. \nMay 13 Meeting Minutes
URL:https://northsummitrec.com/event/nsrssd-advisor-board-meeting-36/
LOCATION:Summit County Courthouse\, 60 N Main St\, Coalville\, UT\, 84017\, United States
CATEGORIES:Board Meetings
END:VEVENT
BEGIN:VEVENT
DTSTART;TZID=America/Denver:20240610T180000
DTEND;TZID=America/Denver:20240610T200000
DTSTAMP:20260419T093126
CREATED:20231130T163846Z
LAST-MODIFIED:20250616T194143Z
UID:10000455-1718042400-1718049600@northsummitrec.com
SUMMARY:NSRSSD Advisor Board Meeting
DESCRIPTION:Board meetings are held at 6:00 at the Summit County Court House in Coalville. \nNS REC Agenda 6-10-24
URL:https://northsummitrec.com/event/nsrssd-advisor-board-meeting-37/
LOCATION:Summit County Courthouse\, 60 N Main St\, Coalville\, UT\, 84017\, United States
CATEGORIES:Board Meetings
END:VEVENT
BEGIN:VEVENT
DTSTART;TZID=America/Denver:20240708T183000
DTEND;TZID=America/Denver:20240708T200000
DTSTAMP:20260419T093126
CREATED:20231130T165317Z
LAST-MODIFIED:20250616T194136Z
UID:10000461-1720463400-1720468800@northsummitrec.com
SUMMARY:NSRSSD Advisor Board Meeting
DESCRIPTION:Board meetings are held at 6:30 at the Summit County Court House in Coalville.
URL:https://northsummitrec.com/event/nsrssd-advisor-board-meeting-42/
LOCATION:Summit County Courthouse\, 60 N Main St\, Coalville\, UT\, 84017\, United States
CATEGORIES:Board Meetings
END:VEVENT
BEGIN:VEVENT
DTSTART;TZID=America/Denver:20240812T183000
DTEND;TZID=America/Denver:20240812T200000
DTSTAMP:20260419T093126
CREATED:20231130T165325Z
LAST-MODIFIED:20250616T194129Z
UID:10000457-1723487400-1723492800@northsummitrec.com
SUMMARY:NSRSSD Advisor Board Meeting
DESCRIPTION:Board meetings are held at 6:30 at the Summit County Court House in Coalville.
URL:https://northsummitrec.com/event/nsrssd-advisor-board-meeting-43/
LOCATION:Summit County Courthouse\, 60 N Main St\, Coalville\, UT\, 84017\, United States
CATEGORIES:Board Meetings
END:VEVENT
BEGIN:VEVENT
DTSTART;TZID=America/Denver:20240909T183000
DTEND;TZID=America/Denver:20240909T200000
DTSTAMP:20260419T093126
CREATED:20231130T163953Z
LAST-MODIFIED:20250616T194122Z
UID:10000456-1725906600-1725912000@northsummitrec.com
SUMMARY:NSRSSD Advisor Board Meeting
DESCRIPTION:Board meetings are held at 6:30 at the Summit County Court House in Coalville.
URL:https://northsummitrec.com/event/nsrssd-advisor-board-meeting-38/
LOCATION:Summit County Courthouse\, 60 N Main St\, Coalville\, UT\, 84017\, United States
CATEGORIES:Board Meetings
END:VEVENT
BEGIN:VEVENT
DTSTART;TZID=America/Denver:20241014T183000
DTEND;TZID=America/Denver:20241014T200000
DTSTAMP:20260419T093126
CREATED:20231130T165048Z
LAST-MODIFIED:20250305T220532Z
UID:10000458-1728930600-1728936000@northsummitrec.com
SUMMARY:NSRSSD Advisor Board Meeting
DESCRIPTION:Board meetings are held at 6:30 at the Summit County Court House in Coalville.
URL:https://northsummitrec.com/event/nsrssd-advisor-board-meeting-39/
LOCATION:Summit County Courthouse\, 60 N Main St\, Coalville\, UT\, 84017\, United States
CATEGORIES:Board Meetings
END:VEVENT
BEGIN:VEVENT
DTSTART;TZID=America/Denver:20241111T183000
DTEND;TZID=America/Denver:20241111T200000
DTSTAMP:20260419T093126
CREATED:20231130T165115Z
LAST-MODIFIED:20250305T220525Z
UID:10000459-1731349800-1731355200@northsummitrec.com
SUMMARY:NSRSSD Advisor Board Meeting
DESCRIPTION:Board meetings are held at 6:30 at the Summit County Court House in Coalville. \nNSRSSD Agenda 11-11-24
URL:https://northsummitrec.com/event/nsrssd-advisor-board-meeting-40/
LOCATION:Summit County Courthouse\, 60 N Main St\, Coalville\, UT\, 84017\, United States
CATEGORIES:Board Meetings
END:VEVENT
BEGIN:VEVENT
DTSTART;TZID=America/Denver:20241209T183000
DTEND;TZID=America/Denver:20241209T200000
DTSTAMP:20260419T093126
CREATED:20231130T165147Z
LAST-MODIFIED:20250305T220508Z
UID:10000460-1733769000-1733774400@northsummitrec.com
SUMMARY:NSRSSD Advisor Board Meeting
DESCRIPTION:Board meetings are held at 6:30 at the Summit County Court House in Coalville.
URL:https://northsummitrec.com/event/nsrssd-advisor-board-meeting-41/
LOCATION:Summit County Courthouse\, 60 N Main St\, Coalville\, UT\, 84017\, United States
CATEGORIES:Board Meetings
END:VEVENT
BEGIN:VEVENT
DTSTART;TZID=America/Denver:20250113T183000
DTEND;TZID=America/Denver:20250113T200000
DTSTAMP:20260419T093126
CREATED:20250122T234417Z
LAST-MODIFIED:20250305T220500Z
UID:10000465-1736793000-1736798400@northsummitrec.com
SUMMARY:NSRSSD Advisor Board Meeting
DESCRIPTION:Board meetings are held at 6:30 at the Summit County Court House in Coalville.
URL:https://northsummitrec.com/event/nsrssd-advisor-board-meeting-44/
LOCATION:Summit County Courthouse\, 60 N Main St\, Coalville\, UT\, 84017\, United States
CATEGORIES:Board Meetings
END:VEVENT
BEGIN:VEVENT
DTSTART;TZID=America/Denver:20250210T183000
DTEND;TZID=America/Denver:20250210T200000
DTSTAMP:20260419T093126
CREATED:20250122T234443Z
LAST-MODIFIED:20250305T220452Z
UID:10000466-1739212200-1739217600@northsummitrec.com
SUMMARY:NSRSSD Advisor Board Meeting
DESCRIPTION:Board meetings are held at 6:30 at the Summit County Court House in Coalville.
URL:https://northsummitrec.com/event/nsrssd-advisor-board-meeting-45/
LOCATION:Summit County Courthouse\, 60 N Main St\, Coalville\, UT\, 84017\, United States
CATEGORIES:Board Meetings
END:VEVENT
BEGIN:VEVENT
DTSTART;TZID=America/Denver:20250310T183000
DTEND;TZID=America/Denver:20250310T200000
DTSTAMP:20260419T093126
CREATED:20250122T234505Z
LAST-MODIFIED:20250305T220443Z
UID:10000467-1741631400-1741636800@northsummitrec.com
SUMMARY:NSRSSD Advisor Board Meeting
DESCRIPTION:Board meetings are held at 6:30 at the Summit County Court House in Coalville.
URL:https://northsummitrec.com/event/nsrssd-advisor-board-meeting-46/
LOCATION:Summit County Courthouse\, 60 N Main St\, Coalville\, UT\, 84017\, United States
CATEGORIES:Board Meetings
END:VEVENT
BEGIN:VEVENT
DTSTART;TZID=America/Denver:20250414T183000
DTEND;TZID=America/Denver:20250414T200000
DTSTAMP:20260419T093126
CREATED:20250122T234525Z
LAST-MODIFIED:20250305T220433Z
UID:10000468-1744655400-1744660800@northsummitrec.com
SUMMARY:NSRSSD Advisor Board Meeting
DESCRIPTION:Board meetings are held at 6:30 at the Summit County Court House in Coalville.
URL:https://northsummitrec.com/event/nsrssd-advisor-board-meeting-47/
LOCATION:Summit County Courthouse\, 60 N Main St\, Coalville\, UT\, 84017\, United States
CATEGORIES:Board Meetings
END:VEVENT
BEGIN:VEVENT
DTSTART;TZID=America/Denver:20250512T183000
DTEND;TZID=America/Denver:20250512T200000
DTSTAMP:20260419T093126
CREATED:20250122T234549Z
LAST-MODIFIED:20250305T220423Z
UID:10000469-1747074600-1747080000@northsummitrec.com
SUMMARY:NSRSSD Advisor Board Meeting
DESCRIPTION:Board meetings are held at 6:30 at the Summit County Court House in Coalville.
URL:https://northsummitrec.com/event/nsrssd-advisor-board-meeting-48/
LOCATION:Summit County Courthouse\, 60 N Main St\, Coalville\, UT\, 84017\, United States
CATEGORIES:Board Meetings
END:VEVENT
BEGIN:VEVENT
DTSTART;TZID=America/Denver:20250609T183000
DTEND;TZID=America/Denver:20250609T200000
DTSTAMP:20260419T093127
CREATED:20250122T234643Z
LAST-MODIFIED:20250609T191131Z
UID:10000470-1749493800-1749499200@northsummitrec.com
SUMMARY:NSRSSD Advisor Board Meeting
DESCRIPTION:Board meetings are held at 6:30 at the Summit County Court House in Coalville. \n  \n6 9 25 Agenda public
URL:https://northsummitrec.com/event/nsrssd-advisor-board-meeting-49/
LOCATION:Summit County Courthouse\, 60 N Main St\, Coalville\, UT\, 84017\, United States
CATEGORIES:Board Meetings
END:VEVENT
BEGIN:VEVENT
DTSTART;TZID=America/Denver:20250714T183000
DTEND;TZID=America/Denver:20250714T200000
DTSTAMP:20260419T093127
CREATED:20250122T234725Z
LAST-MODIFIED:20250305T220407Z
UID:10000471-1752517800-1752523200@northsummitrec.com
SUMMARY:NSRSSD Advisor Board Meeting
DESCRIPTION:Board meetings are held at 6:30 at the Summit County Court House in Coalville.
URL:https://northsummitrec.com/event/nsrssd-advisor-board-meeting-50/
LOCATION:Summit County Courthouse\, 60 N Main St\, Coalville\, UT\, 84017\, United States
CATEGORIES:Board Meetings
END:VEVENT
END:VCALENDAR