BEGIN:VCALENDAR
VERSION:2.0
PRODID:-//North Summit Recreation - ECPv6.15.15//NONSGML v1.0//EN
CALSCALE:GREGORIAN
METHOD:PUBLISH
X-WR-CALNAME:North Summit Recreation
X-ORIGINAL-URL:https://northsummitrec.com
X-WR-CALDESC:Events for North Summit Recreation
REFRESH-INTERVAL;VALUE=DURATION:PT1H
X-Robots-Tag:noindex
X-PUBLISHED-TTL:PT1H
BEGIN:VTIMEZONE
TZID:America/Denver
BEGIN:DAYLIGHT
TZOFFSETFROM:-0700
TZOFFSETTO:-0600
TZNAME:MDT
DTSTART:20210314T090000
END:DAYLIGHT
BEGIN:STANDARD
TZOFFSETFROM:-0600
TZOFFSETTO:-0700
TZNAME:MST
DTSTART:20211107T080000
END:STANDARD
BEGIN:DAYLIGHT
TZOFFSETFROM:-0700
TZOFFSETTO:-0600
TZNAME:MDT
DTSTART:20220313T090000
END:DAYLIGHT
BEGIN:STANDARD
TZOFFSETFROM:-0600
TZOFFSETTO:-0700
TZNAME:MST
DTSTART:20221106T080000
END:STANDARD
BEGIN:DAYLIGHT
TZOFFSETFROM:-0700
TZOFFSETTO:-0600
TZNAME:MDT
DTSTART:20230312T090000
END:DAYLIGHT
BEGIN:STANDARD
TZOFFSETFROM:-0600
TZOFFSETTO:-0700
TZNAME:MST
DTSTART:20231105T080000
END:STANDARD
END:VTIMEZONE
BEGIN:VEVENT
DTSTART;VALUE=DATE:20220719
DTEND;VALUE=DATE:20220720
DTSTAMP:20260422T135639
CREATED:20220507T110827Z
LAST-MODIFIED:20251015T204023Z
UID:10000362-1658188800-1658275199@northsummitrec.com
SUMMARY:Athletic Development Training
DESCRIPTION:Agility-Speed-Movement-Confidence\nWork on speed\, agility\, footwork and strength with this summer’s athletic development training! 8 sessions will be held on Tuesdays and Thursdays starting July 7th through August 2nd. Trainings will be head in a variety of locations around the North Summit School District. \nLearn More\n 
URL:https://northsummitrec.com/event/athletic-development-training-5/
CATEGORIES:Youth Sports
END:VEVENT
BEGIN:VEVENT
DTSTART;VALUE=DATE:20220719
DTEND;VALUE=DATE:20220720
DTSTAMP:20260422T135639
CREATED:20220507T110827Z
LAST-MODIFIED:20251015T204027Z
UID:10000363-1658188800-1658275199@northsummitrec.com
SUMMARY:Athletic Development Training
DESCRIPTION:Agility-Speed-Movement-Confidence\nWork on speed\, agility\, footwork and strength with this summer’s athletic development training! 8 sessions will be held on Tuesdays and Thursdays starting July 7th through August 2nd. Trainings will be head in a variety of locations around the North Summit School District. \nLearn More\n 
URL:https://northsummitrec.com/event/athletic-development-training-5-2/
CATEGORIES:Youth Sports
END:VEVENT
BEGIN:VEVENT
DTSTART;TZID=America/Denver:20220718T080000
DTEND;TZID=America/Denver:20220720T234500
DTSTAMP:20260422T135639
CREATED:20220718T174827Z
LAST-MODIFIED:20251015T204019Z
UID:10000382-1658131200-1658360700@northsummitrec.com
SUMMARY:Meeting July 20th Agenda
DESCRIPTION:NSRSSD Agenda 7-20-22
URL:https://northsummitrec.com/event/meeting-july-20th-agenda/
CATEGORIES:Youth Sports
END:VEVENT
BEGIN:VEVENT
DTSTART;TZID=America/Denver:20220718T080000
DTEND;TZID=America/Denver:20220720T234500
DTSTAMP:20260422T135639
CREATED:20220718T174827Z
LAST-MODIFIED:20251015T204014Z
UID:10000383-1658131200-1658360700@northsummitrec.com
SUMMARY:Meeting July 20th Agenda
DESCRIPTION:NSRSSD Agenda 7-20-22
URL:https://northsummitrec.com/event/meeting-july-20th-agenda-2/
CATEGORIES:Youth Sports
END:VEVENT
BEGIN:VEVENT
DTSTART;TZID=America/Denver:20220714T080000
DTEND;TZID=America/Denver:20220814T170000
DTSTAMP:20260422T135639
CREATED:20220714T170153Z
LAST-MODIFIED:20251015T204006Z
UID:10000380-1657785600-1660496400@northsummitrec.com
SUMMARY:Soccer Registration is now open
DESCRIPTION:https://north-summit-recreation-special-service-district.sportngin.com/register/form/206621679 \nRegister now for fall soccer. Soccer will be played at the Summit County Fairgrounds on Tues/Thurs evenings starting Aug 30th. \n 
URL:https://northsummitrec.com/event/soccer-registration-is-now-open-2/
CATEGORIES:Youth Sports
END:VEVENT
BEGIN:VEVENT
DTSTART;TZID=America/Denver:20220714T080000
DTEND;TZID=America/Denver:20220814T170000
DTSTAMP:20260422T135639
CREATED:20220714T170153Z
LAST-MODIFIED:20251015T204011Z
UID:10000381-1657785600-1660496400@northsummitrec.com
SUMMARY:Soccer Registration is now open
DESCRIPTION:https://north-summit-recreation-special-service-district.sportngin.com/register/form/206621679 \nRegister now for fall soccer. Soccer will be played at the Summit County Fairgrounds on Tues/Thurs evenings starting Aug 30th. \n 
URL:https://northsummitrec.com/event/soccer-registration-is-now-open-2-2/
CATEGORIES:Youth Sports
END:VEVENT
BEGIN:VEVENT
DTSTART;VALUE=DATE:20220714
DTEND;VALUE=DATE:20220715
DTSTAMP:20260422T135639
CREATED:20220507T111041Z
LAST-MODIFIED:20251015T203949Z
UID:10000366-1657756800-1657843199@northsummitrec.com
SUMMARY:Athletic Development Training
DESCRIPTION:Agility-Speed-Movement-Confidence\nWork on speed\, agility\, footwork and strength with this summer’s athletic development training! 8 sessions will be held on Tuesdays and Thursdays starting July 7th through August 2nd. Trainings will be head in a variety of locations around the North Summit School District. \nLearn More\n 
URL:https://northsummitrec.com/event/athletic-development-training-7/
CATEGORIES:Youth Sports
END:VEVENT
BEGIN:VEVENT
DTSTART;VALUE=DATE:20220714
DTEND;VALUE=DATE:20220715
DTSTAMP:20260422T135639
CREATED:20220507T111041Z
LAST-MODIFIED:20251015T203954Z
UID:10000367-1657756800-1657843199@northsummitrec.com
SUMMARY:Athletic Development Training
DESCRIPTION:Agility-Speed-Movement-Confidence\nWork on speed\, agility\, footwork and strength with this summer’s athletic development training! 8 sessions will be held on Tuesdays and Thursdays starting July 7th through August 2nd. Trainings will be head in a variety of locations around the North Summit School District. \nLearn More\n 
URL:https://northsummitrec.com/event/athletic-development-training-7-2/
CATEGORIES:Youth Sports
END:VEVENT
BEGIN:VEVENT
DTSTART;VALUE=DATE:20220712
DTEND;VALUE=DATE:20220713
DTSTAMP:20260422T135639
CREATED:20220507T093800Z
LAST-MODIFIED:20251015T203946Z
UID:10000356-1657584000-1657670399@northsummitrec.com
SUMMARY:Athletic Development Training
DESCRIPTION:Agility-Speed-Movement-Confidence\nWork on speed\, agility\, footwork and strength with this summer’s athletic development training! 8 sessions will be held on Tuesdays and Thursdays starting July 7th through August 2nd. Trainings will be head in a variety of locations around the North Summit School District. \nLearn More\n 
URL:https://northsummitrec.com/event/athletic-development-training-2/
CATEGORIES:Youth Sports
END:VEVENT
BEGIN:VEVENT
DTSTART;VALUE=DATE:20220712
DTEND;VALUE=DATE:20220713
DTSTAMP:20260422T135639
CREATED:20220507T093800Z
LAST-MODIFIED:20251015T203941Z
UID:10000357-1657584000-1657670399@northsummitrec.com
SUMMARY:Athletic Development Training
DESCRIPTION:Agility-Speed-Movement-Confidence\nWork on speed\, agility\, footwork and strength with this summer’s athletic development training! 8 sessions will be held on Tuesdays and Thursdays starting July 7th through August 2nd. Trainings will be head in a variety of locations around the North Summit School District. \nLearn More\n 
URL:https://northsummitrec.com/event/athletic-development-training-2-2/
CATEGORIES:Youth Sports
END:VEVENT
BEGIN:VEVENT
DTSTART;TZID=America/Denver:20220709T180000
DTEND;TZID=America/Denver:20220709T230000
DTSTAMP:20260422T135639
CREATED:20220517T141735Z
LAST-MODIFIED:20251015T203931Z
UID:10000314-1657389600-1657407600@northsummitrec.com
SUMMARY:Gymkhana Series Event
DESCRIPTION:View Details\n 
URL:https://northsummitrec.com/event/gymkhana-series-event-2/
LOCATION:Summit County Fair Grounds\, 202 Park Rd\, Coalville\, UT\, 84017
CATEGORIES:Adult Sports,Youth Sports
END:VEVENT
BEGIN:VEVENT
DTSTART;TZID=America/Denver:20220709T180000
DTEND;TZID=America/Denver:20220709T230000
DTSTAMP:20260422T135639
CREATED:20220517T141735Z
LAST-MODIFIED:20251015T203936Z
UID:10000316-1657389600-1657407600@northsummitrec.com
SUMMARY:Gymkhana Series Event
DESCRIPTION:View Details\n 
URL:https://northsummitrec.com/event/gymkhana-series-event-2-2/
LOCATION:Summit County Fair Grounds\, 202 Park Rd\, Coalville\, UT\, 84017
CATEGORIES:Adult Sports,Youth Sports
END:VEVENT
BEGIN:VEVENT
DTSTART;VALUE=DATE:20220707
DTEND;VALUE=DATE:20220708
DTSTAMP:20260422T135639
CREATED:20220507T093144Z
LAST-MODIFIED:20251015T203925Z
UID:10000354-1657152000-1657238399@northsummitrec.com
SUMMARY:Athletic Development Training
DESCRIPTION:Agility-Speed-Movement-Confidence\nWork on speed\, agility\, footwork and strength with this summer’s athletic development training! 8 sessions will be held on Tuesdays and Thursdays starting July 7th through August 2nd. Trainings will be head in a variety of locations around the North Summit School District. \nLearn More\n 
URL:https://northsummitrec.com/event/athletic-development-training/
CATEGORIES:Youth Sports
END:VEVENT
BEGIN:VEVENT
DTSTART;VALUE=DATE:20220707
DTEND;VALUE=DATE:20220708
DTSTAMP:20260422T135639
CREATED:20220507T093144Z
LAST-MODIFIED:20251015T205405Z
UID:10000355-1657152000-1657238399@northsummitrec.com
SUMMARY:Athletic Development Training
DESCRIPTION:Agility-Speed-Movement-Confidence\nWork on speed\, agility\, footwork and strength with this summer’s athletic development training! 8 sessions will be held on Tuesdays and Thursdays starting July 7th through August 2nd. Trainings will be head in a variety of locations around the North Summit School District. \nLearn More\n 
URL:https://northsummitrec.com/event/athletic-development-training-10/
CATEGORIES:Youth Sports
END:VEVENT
BEGIN:VEVENT
DTSTART;TZID=America/Denver:20220703T080000
DTEND;TZID=America/Denver:20220706T170000
DTSTAMP:20260422T135639
CREATED:20220703T073837Z
LAST-MODIFIED:20251015T205352Z
UID:10000325-1656835200-1657126800@northsummitrec.com
SUMMARY:July 5th Board Meeting
DESCRIPTION:NSRSSD Agenda 7-5-22 \n 
URL:https://northsummitrec.com/event/july-5th-board-meeting/
CATEGORIES:Board Meetings,Youth Sports
END:VEVENT
BEGIN:VEVENT
DTSTART;TZID=America/Denver:20220703T080000
DTEND;TZID=America/Denver:20220706T170000
DTSTAMP:20260422T135639
CREATED:20220703T073837Z
LAST-MODIFIED:20251015T205345Z
UID:10000377-1656835200-1657126800@northsummitrec.com
SUMMARY:July 5th Board Meeting
DESCRIPTION:NSRSSD Agenda 7-5-22 \n 
URL:https://northsummitrec.com/event/july-5th-board-meeting-2/
CATEGORIES:Board Meetings,Youth Sports
END:VEVENT
BEGIN:VEVENT
DTSTART;VALUE=DATE:20220701
DTEND;VALUE=DATE:20220702
DTSTAMP:20260422T135639
CREATED:20220507T111358Z
LAST-MODIFIED:20251015T205336Z
UID:10000372-1656633600-1656719999@northsummitrec.com
SUMMARY:Athletic Development Training Registration Deadline
DESCRIPTION:Learn More\n 
URL:https://northsummitrec.com/event/athletic-development-training-registration-deadline/
CATEGORIES:Youth Sports
END:VEVENT
BEGIN:VEVENT
DTSTART;VALUE=DATE:20220701
DTEND;VALUE=DATE:20220702
DTSTAMP:20260422T135639
CREATED:20220507T111358Z
LAST-MODIFIED:20251015T205343Z
UID:10000373-1656633600-1656719999@northsummitrec.com
SUMMARY:Athletic Development Training Registration Deadline
DESCRIPTION:Learn More\n 
URL:https://northsummitrec.com/event/athletic-development-training-registration-deadline-2/
CATEGORIES:Youth Sports
END:VEVENT
BEGIN:VEVENT
DTSTART;TZID=America/Denver:20220617T180000
DTEND;TZID=America/Denver:20220617T230000
DTSTAMP:20260422T135639
CREATED:20220517T141636Z
LAST-MODIFIED:20251015T205333Z
UID:10000310-1655488800-1655506800@northsummitrec.com
SUMMARY:Gymkhana Event Series
DESCRIPTION:View Details\n 
URL:https://northsummitrec.com/event/gymkhana-event-series/
LOCATION:Summit County Fair Grounds\, 202 Park Rd\, Coalville\, UT\, 84017
CATEGORIES:Adult Sports,Youth Sports
END:VEVENT
BEGIN:VEVENT
DTSTART;TZID=America/Denver:20220617T180000
DTEND;TZID=America/Denver:20220617T230000
DTSTAMP:20260422T135639
CREATED:20220517T141636Z
LAST-MODIFIED:20251015T205003Z
UID:10000312-1655488800-1655506800@northsummitrec.com
SUMMARY:Gymkhana Event Series
DESCRIPTION:View Details\n 
URL:https://northsummitrec.com/event/gymkhana-event-series-2/
LOCATION:Summit County Fair Grounds\, 202 Park Rd\, Coalville\, UT\, 84017
CATEGORIES:Adult Sports,Youth Sports
END:VEVENT
BEGIN:VEVENT
DTSTART;VALUE=DATE:20220614
DTEND;VALUE=DATE:20220617
DTSTAMP:20260422T135639
CREATED:20220411T135759Z
LAST-MODIFIED:20251015T204951Z
UID:10000346-1655164800-1655423999@northsummitrec.com
SUMMARY:4th-9th Grade – Summer Basketball Camp (Boys & Girls)
DESCRIPTION:Register Now\n 
URL:https://northsummitrec.com/event/7-9th-grade-summer-basketball-camp-boys-girls-2/
LOCATION:North Summit Middle School\, 64 South 100 East\, Coalville\, Utah\, 84017
CATEGORIES:Youth Sports
END:VEVENT
BEGIN:VEVENT
DTSTART;VALUE=DATE:20220614
DTEND;VALUE=DATE:20220617
DTSTAMP:20260422T135639
CREATED:20220411T135759Z
LAST-MODIFIED:20251015T205001Z
UID:10000347-1655164800-1655423999@northsummitrec.com
SUMMARY:4th-9th Grade – Summer Basketball Camp (Boys & Girls)
DESCRIPTION:Register Now\n 
URL:https://northsummitrec.com/event/7-9th-grade-summer-basketball-camp-boys-girls-2-2/
LOCATION:North Summit Middle School\, 64 South 100 East\, Coalville\, Utah\, 84017
CATEGORIES:Youth Sports
END:VEVENT
BEGIN:VEVENT
DTSTART;TZID=America/Denver:20220613T090000
DTEND;TZID=America/Denver:20220613T110000
DTSTAMP:20260422T135639
CREATED:20220411T134324Z
LAST-MODIFIED:20251015T204939Z
UID:10000344-1655110800-1655118000@northsummitrec.com
SUMMARY:K-3rd Grades - Summer Basketball Camp (Boys & Girls)
DESCRIPTION:Register Now\n 
URL:https://northsummitrec.com/event/k-3rd-grades-summer-basketball-camp-boys-girls/
LOCATION:North Summit Middle School\, 64 South 100 East\, Coalville\, Utah\, 84017
CATEGORIES:Youth Sports
END:VEVENT
BEGIN:VEVENT
DTSTART;TZID=America/Denver:20220613T090000
DTEND;TZID=America/Denver:20220613T110000
DTSTAMP:20260422T135639
CREATED:20220411T134324Z
LAST-MODIFIED:20251015T204943Z
UID:10000345-1655110800-1655118000@northsummitrec.com
SUMMARY:K-3rd Grades - Summer Basketball Camp (Boys & Girls)
DESCRIPTION:Register Now\n 
URL:https://northsummitrec.com/event/k-3rd-grades-summer-basketball-camp-boys-girls-2/
LOCATION:North Summit Middle School\, 64 South 100 East\, Coalville\, Utah\, 84017
CATEGORIES:Youth Sports
END:VEVENT
BEGIN:VEVENT
DTSTART;TZID=America/Denver:20220612T080000
DTEND;TZID=America/Denver:20220614T170000
DTSTAMP:20260422T135639
CREATED:20220612T122714Z
LAST-MODIFIED:20251015T204936Z
UID:10000322-1655020800-1655226000@northsummitrec.com
SUMMARY:NSRSSD Board Meeting Agenda-June
DESCRIPTION:NSRSSD Agenda 6-13-22
URL:https://northsummitrec.com/event/nsrssd-board-meeting-agenda-june/
CATEGORIES:Youth Sports
END:VEVENT
BEGIN:VEVENT
DTSTART;TZID=America/Denver:20220612T080000
DTEND;TZID=America/Denver:20220614T170000
DTSTAMP:20260422T135639
CREATED:20220612T122714Z
LAST-MODIFIED:20251015T204933Z
UID:10000323-1655020800-1655226000@northsummitrec.com
SUMMARY:NSRSSD Board Meeting Agenda-June
DESCRIPTION:NSRSSD Agenda 6-13-22
URL:https://northsummitrec.com/event/nsrssd-board-meeting-agenda-june-2/
CATEGORIES:Youth Sports
END:VEVENT
BEGIN:VEVENT
DTSTART;TZID=America/Denver:20220603T180000
DTEND;TZID=America/Denver:20220603T230000
DTSTAMP:20260422T135639
CREATED:20220517T141227Z
LAST-MODIFIED:20251015T205622Z
UID:10000308-1654279200-1654297200@northsummitrec.com
SUMMARY:Gymkhana Series Event
DESCRIPTION:View Details\n 
URL:https://northsummitrec.com/event/gymkhana-series-event-4/
LOCATION:Summit County Fair Grounds\, 202 Park Rd\, Coalville\, UT\, 84017
CATEGORIES:Adult Sports,Youth Sports
END:VEVENT
BEGIN:VEVENT
DTSTART;TZID=America/Denver:20220603T180000
DTEND;TZID=America/Denver:20220603T230000
DTSTAMP:20260422T135639
CREATED:20220517T141227Z
LAST-MODIFIED:20251015T204727Z
UID:10000376-1654279200-1654297200@northsummitrec.com
SUMMARY:Gymkhana Series Event
DESCRIPTION:View Details\n 
URL:https://northsummitrec.com/event/gymkhana-series-event/
LOCATION:Summit County Fair Grounds\, 202 Park Rd\, Coalville\, UT\, 84017
CATEGORIES:Adult Sports,Youth Sports
END:VEVENT
BEGIN:VEVENT
DTSTART;TZID=America/Denver:20220514T080000
DTEND;TZID=America/Denver:20220514T170000
DTSTAMP:20260422T135639
CREATED:20220514T160136Z
LAST-MODIFIED:20251015T205536Z
UID:10000374-1652515200-1652547600@northsummitrec.com
SUMMARY:Board meeting changed to May 16th
DESCRIPTION:NSRSSD Agenda 5-9-22
URL:https://northsummitrec.com/event/board-meeting-changed-to-may-16th/
CATEGORIES:Board Meetings,Youth Sports
END:VEVENT
BEGIN:VEVENT
DTSTART;TZID=America/Denver:20220514T080000
DTEND;TZID=America/Denver:20220514T170000
DTSTAMP:20260422T135639
CREATED:20220514T160136Z
LAST-MODIFIED:20251015T205533Z
UID:10000375-1652515200-1652547600@northsummitrec.com
SUMMARY:Board meeting changed to May 16th
DESCRIPTION:NSRSSD Agenda 5-9-22
URL:https://northsummitrec.com/event/board-meeting-changed-to-may-16th-2/
CATEGORIES:Board Meetings,Youth Sports
END:VEVENT
END:VCALENDAR