BEGIN:VCALENDAR
VERSION:2.0
PRODID:-//North Summit Recreation - ECPv6.15.15//NONSGML v1.0//EN
CALSCALE:GREGORIAN
METHOD:PUBLISH
X-WR-CALNAME:North Summit Recreation
X-ORIGINAL-URL:https://northsummitrec.com
X-WR-CALDESC:Events for North Summit Recreation
REFRESH-INTERVAL;VALUE=DURATION:PT1H
X-Robots-Tag:noindex
X-PUBLISHED-TTL:PT1H
BEGIN:VTIMEZONE
TZID:America/Denver
BEGIN:DAYLIGHT
TZOFFSETFROM:-0700
TZOFFSETTO:-0600
TZNAME:MDT
DTSTART:20200308T090000
END:DAYLIGHT
BEGIN:STANDARD
TZOFFSETFROM:-0600
TZOFFSETTO:-0700
TZNAME:MST
DTSTART:20201101T080000
END:STANDARD
BEGIN:DAYLIGHT
TZOFFSETFROM:-0700
TZOFFSETTO:-0600
TZNAME:MDT
DTSTART:20210314T090000
END:DAYLIGHT
BEGIN:STANDARD
TZOFFSETFROM:-0600
TZOFFSETTO:-0700
TZNAME:MST
DTSTART:20211107T080000
END:STANDARD
BEGIN:DAYLIGHT
TZOFFSETFROM:-0700
TZOFFSETTO:-0600
TZNAME:MDT
DTSTART:20220313T090000
END:DAYLIGHT
BEGIN:STANDARD
TZOFFSETFROM:-0600
TZOFFSETTO:-0700
TZNAME:MST
DTSTART:20221106T080000
END:STANDARD
END:VTIMEZONE
BEGIN:VEVENT
DTSTART;TZID=America/Denver:20210427T080000
DTEND;TZID=America/Denver:20210619T170000
DTSTAMP:20260422T225248
CREATED:20210428T001031Z
LAST-MODIFIED:20251015T210155Z
UID:10000268-1619510400-1624122000@northsummitrec.com
SUMMARY:Baseball/Softball Schedules 21
DESCRIPTION:2021 TBALL (COED PRESCHOOL ONLY) Team Lists \n2021 TBALL(COED PRESCHOOL ONLY) \n2021 COACH PITCH (KINDERGARTEN ONLY) Team List \n2021 COACH PITCH KINDERGARTEN ONLY \n2021 MACHINE PITCH 1 & 2 GRADE COED Team Lists (1) \n2021 MACHINE PITCH 1&2 GRADE COED (1) \nGirls 3-5 Softball 21 (2) \nGirls 6-8 Softball 21 (3) \nMinor 3-4 Grade baseball 21 Revised (1) \nMajor League 5-6 grade Revised (2) \nPony League 7-9 Grade 21 REVISED (1)
URL:https://northsummitrec.com/event/baseball-softball-teams-21/
CATEGORIES:Youth Sports
END:VEVENT
BEGIN:VEVENT
DTSTART;TZID=America/Denver:20210427T080000
DTEND;TZID=America/Denver:20210619T170000
DTSTAMP:20260422T225248
CREATED:20210428T001031Z
LAST-MODIFIED:20251015T210152Z
UID:10000270-1619510400-1624122000@northsummitrec.com
SUMMARY:Baseball/Softball Schedules 21
DESCRIPTION:2021 TBALL (COED PRESCHOOL ONLY) Team Lists \n2021 TBALL(COED PRESCHOOL ONLY) \n2021 COACH PITCH (KINDERGARTEN ONLY) Team List \n2021 COACH PITCH KINDERGARTEN ONLY \n2021 MACHINE PITCH 1 & 2 GRADE COED Team Lists (1) \n2021 MACHINE PITCH 1&2 GRADE COED (1) \nGirls 3-5 Softball 21 (2) \nGirls 6-8 Softball 21 (3) \nMinor 3-4 Grade baseball 21 Revised (1) \nMajor League 5-6 grade Revised (2) \nPony League 7-9 Grade 21 REVISED (1)
URL:https://northsummitrec.com/event/baseball-softball-teams-21-2/
CATEGORIES:Youth Sports
END:VEVENT
BEGIN:VEVENT
DTSTART;TZID=America/Denver:20210412T080000
DTEND;TZID=America/Denver:20210426T170000
DTSTAMP:20260422T225248
CREATED:20210412T222929Z
LAST-MODIFIED:20251015T210146Z
UID:10000264-1618214400-1619456400@northsummitrec.com
SUMMARY:Baseball/Softball Registration is now CLOSED
DESCRIPTION:Thank you for signing up. We are working on schedules they will be coming soon….
URL:https://northsummitrec.com/event/baseball-softball-registration-is-now-closed/
CATEGORIES:Youth Sports
END:VEVENT
BEGIN:VEVENT
DTSTART;TZID=America/Denver:20210412T080000
DTEND;TZID=America/Denver:20210426T170000
DTSTAMP:20260422T225248
CREATED:20210412T222929Z
LAST-MODIFIED:20251015T210149Z
UID:10000266-1618214400-1619456400@northsummitrec.com
SUMMARY:Baseball/Softball Registration is now CLOSED
DESCRIPTION:Thank you for signing up. We are working on schedules they will be coming soon….
URL:https://northsummitrec.com/event/baseball-softball-registration-is-now-closed-2/
CATEGORIES:Youth Sports
END:VEVENT
BEGIN:VEVENT
DTSTART;TZID=America/Denver:20210407T080000
DTEND;TZID=America/Denver:20210407T170000
DTSTAMP:20260422T225248
CREATED:20210316T211259Z
LAST-MODIFIED:20251015T210144Z
UID:10000255-1617782400-1617814800@northsummitrec.com
SUMMARY:Baseball/Softball Registration
DESCRIPTION:Baseball starts May 10th (Mon & Wed evenings) \nPK-8th grade \nSoftball starts May 11th (Tues & Thurs evenings) \n3-8th grade \nRegistration open through March 31st \n$10 late fee April 6th-April 10th      Registration closed April 7th \n*We need coaches\, you will get a credit back for coaching.  We will have a coaches meeting with plenty of ideas on how to coach. No experience needed:) Would love to have your help \nWe are very excited for baseball to be back this year! Thank you for supporting NS RECREATION \n  \n  \nRegister Now
URL:https://northsummitrec.com/event/baseball-softball-registration/
CATEGORIES:Youth Sports
END:VEVENT
BEGIN:VEVENT
DTSTART;TZID=America/Denver:20210407T080000
DTEND;TZID=America/Denver:20210407T170000
DTSTAMP:20260422T225248
CREATED:20210316T211259Z
LAST-MODIFIED:20251015T210140Z
UID:10000258-1617782400-1617814800@northsummitrec.com
SUMMARY:Baseball/Softball Registration
DESCRIPTION:Baseball starts May 10th (Mon & Wed evenings) \nPK-8th grade \nSoftball starts May 11th (Tues & Thurs evenings) \n3-8th grade \nRegistration open through March 31st \n$10 late fee April 6th-April 10th      Registration closed April 7th \n*We need coaches\, you will get a credit back for coaching.  We will have a coaches meeting with plenty of ideas on how to coach. No experience needed:) Would love to have your help \nWe are very excited for baseball to be back this year! Thank you for supporting NS RECREATION \n  \n  \nRegister Now
URL:https://northsummitrec.com/event/baseball-softball-registration-2/
CATEGORIES:Youth Sports
END:VEVENT
BEGIN:VEVENT
DTSTART;TZID=America/Denver:20210403T080000
DTEND;TZID=America/Denver:20210506T170000
DTSTAMP:20260422T225248
CREATED:20210403T224035Z
LAST-MODIFIED:20251015T210405Z
UID:10000260-1617436800-1620320400@northsummitrec.com
SUMMARY:Flag Football Teams/Schedules
DESCRIPTION:Play starts Tuesday April 13th. Held on Tues/Thurs evenings. See Schedules below \n1/2 grade flag football \n3/4 grade flag football \n5/6 grade flag football \n7/8 grade flag football
URL:https://northsummitrec.com/event/flag-football-teams-schedules/
CATEGORIES:Youth Sports
END:VEVENT
BEGIN:VEVENT
DTSTART;TZID=America/Denver:20210403T080000
DTEND;TZID=America/Denver:20210506T170000
DTSTAMP:20260422T225248
CREATED:20210403T224035Z
LAST-MODIFIED:20251015T210129Z
UID:10000262-1617436800-1620320400@northsummitrec.com
SUMMARY:Flag Football Teams/Schedules
DESCRIPTION:Play starts Tuesday April 13th. Held on Tues/Thurs evenings. See Schedules below \n1/2 grade flag football \n3/4 grade flag football \n5/6 grade flag football \n7/8 grade flag football
URL:https://northsummitrec.com/event/flag-football-teams-schedules-2/
CATEGORIES:Youth Sports
END:VEVENT
BEGIN:VEVENT
DTSTART;TZID=America/Denver:20210309T170000
DTEND;TZID=America/Denver:20210310T190000
DTSTAMP:20260422T225248
CREATED:20210113T232355Z
LAST-MODIFIED:20251015T210402Z
UID:10000245-1615309200-1615402800@northsummitrec.com
SUMMARY:Girls Volleyball Starts March 9th
DESCRIPTION:REGISTRATION IS NOW OPEN (FEB1st- FEB 28th) $40 \nVolleyball will start March 9th. This is a skills and drill camp ran by Emily Bond. It will be held on Tues/Thurs evenings at the NS Middle School Gym. Registration will start in February. \n3-4 grade 5-6pm 5-8 grade  6-7 pm \nRegister Now
URL:https://northsummitrec.com/event/girls-volleyball-skills-camp-3rd-8th/
CATEGORIES:Youth Sports
END:VEVENT
BEGIN:VEVENT
DTSTART;TZID=America/Denver:20210309T170000
DTEND;TZID=America/Denver:20210310T190000
DTSTAMP:20260422T225248
CREATED:20210113T232355Z
LAST-MODIFIED:20251015T210359Z
UID:10000246-1615309200-1615402800@northsummitrec.com
SUMMARY:Girls Volleyball Starts March 9th
DESCRIPTION:REGISTRATION IS NOW OPEN (FEB1st- FEB 28th) $40 \nVolleyball will start March 9th. This is a skills and drill camp ran by Emily Bond. It will be held on Tues/Thurs evenings at the NS Middle School Gym. Registration will start in February. \n3-4 grade 5-6pm 5-8 grade  6-7 pm \nRegister Now
URL:https://northsummitrec.com/event/girls-volleyball-skills-camp-3rd-8th-2/
CATEGORIES:Youth Sports
END:VEVENT
END:VCALENDAR