BEGIN:VCALENDAR
VERSION:2.0
PRODID:-//North Summit Recreation - ECPv6.15.15//NONSGML v1.0//EN
CALSCALE:GREGORIAN
METHOD:PUBLISH
X-ORIGINAL-URL:https://northsummitrec.com
X-WR-CALDESC:Events for North Summit Recreation
REFRESH-INTERVAL;VALUE=DURATION:PT1H
X-Robots-Tag:noindex
X-PUBLISHED-TTL:PT1H
BEGIN:VTIMEZONE
TZID:America/Denver
BEGIN:DAYLIGHT
TZOFFSETFROM:-0700
TZOFFSETTO:-0600
TZNAME:MDT
DTSTART:20210314T090000
END:DAYLIGHT
BEGIN:STANDARD
TZOFFSETFROM:-0600
TZOFFSETTO:-0700
TZNAME:MST
DTSTART:20211107T080000
END:STANDARD
BEGIN:DAYLIGHT
TZOFFSETFROM:-0700
TZOFFSETTO:-0600
TZNAME:MDT
DTSTART:20220313T090000
END:DAYLIGHT
BEGIN:STANDARD
TZOFFSETFROM:-0600
TZOFFSETTO:-0700
TZNAME:MST
DTSTART:20221106T080000
END:STANDARD
BEGIN:DAYLIGHT
TZOFFSETFROM:-0700
TZOFFSETTO:-0600
TZNAME:MDT
DTSTART:20230312T090000
END:DAYLIGHT
BEGIN:STANDARD
TZOFFSETFROM:-0600
TZOFFSETTO:-0700
TZNAME:MST
DTSTART:20231105T080000
END:STANDARD
BEGIN:DAYLIGHT
TZOFFSETFROM:-0700
TZOFFSETTO:-0600
TZNAME:MDT
DTSTART:20240310T090000
END:DAYLIGHT
BEGIN:STANDARD
TZOFFSETFROM:-0600
TZOFFSETTO:-0700
TZNAME:MST
DTSTART:20241103T080000
END:STANDARD
END:VTIMEZONE
BEGIN:VEVENT
DTSTART;TZID=America/Denver:20231209T090000
DTEND;TZID=America/Denver:20231209T120000
DTSTAMP:20260422T070429
CREATED:20231205T161413Z
LAST-MODIFIED:20250616T194333Z
UID:10000463-1702112400-1702123200@northsummitrec.com
SUMMARY:Youth Basketball Season Starts
DESCRIPTION:Play starts December 9th and goes for 8 weeks. Games will be played on Saturday’s. No basketball games will be played on December 23rd or Dec 30th. Pk-4th will practice first 20-30 mins before games. 3-8th grades will be occasionally traveling for games to Park City and Kamas. \nView Details
URL:https://northsummitrec.com/event/youth-basketball-season-starts/
CATEGORIES:Youth Sports
END:VEVENT
BEGIN:VEVENT
DTSTART;TZID=America/Denver:20231024T183000
DTEND;TZID=America/Denver:20231024T200000
DTSTAMP:20260422T070429
CREATED:20231024T024909Z
LAST-MODIFIED:20250616T194429Z
UID:10000449-1698172200-1698177600@northsummitrec.com
SUMMARY:Special Meeting- Preliminary Budget Meeting
DESCRIPTION:2024 NSSRD Budget Draft_ \n  \nMeeting held at 6:30 PM10-24-2023 at the Summit County Courthouse
URL:https://northsummitrec.com/event/special-meeting-preliminary-budget-meeting/
CATEGORIES:Youth Sports
END:VEVENT
BEGIN:VEVENT
DTSTART;TZID=America/Denver:20230927T183000
DTEND;TZID=America/Denver:20230927T183000
DTSTAMP:20260422T070429
CREATED:20230927T025557Z
LAST-MODIFIED:20250616T194206Z
UID:10000447-1695839400-1695839400@northsummitrec.com
SUMMARY:Special Meeting 9-27-2023
DESCRIPTION:NSRSSD Agenda 9-27-23 \n 
URL:https://northsummitrec.com/event/special-meeting-9-27-2023/
CATEGORIES:Board Meetings,Youth Sports
END:VEVENT
BEGIN:VEVENT
DTSTART;TZID=America/Denver:20230911T080000
DTEND;TZID=America/Denver:20230911T170000
DTSTAMP:20260422T070429
CREATED:20230910T235649Z
LAST-MODIFIED:20250616T194213Z
UID:10000446-1694419200-1694451600@northsummitrec.com
SUMMARY:September 11th Board Meeting has been CANCELLED
DESCRIPTION:Our meeting scheduled for tomorrow 9/11/23 has been cancelled due to technical difficulties. \n 
URL:https://northsummitrec.com/event/september-11th-board-meeting-has-been-cancelled/
CATEGORIES:Youth Sports
END:VEVENT
BEGIN:VEVENT
DTSTART;TZID=America/Denver:20230905T080000
DTEND;TZID=America/Denver:20231005T170000
DTSTAMP:20260422T070429
CREATED:20230803T213514Z
LAST-MODIFIED:20250616T194304Z
UID:10000439-1693900800-1696525200@northsummitrec.com
SUMMARY:Soccer Registration
DESCRIPTION:https://north-summit-recreation-special-service-district.sportngin.com/register/form/580278570 \n 
URL:https://northsummitrec.com/event/soccer-registration/
CATEGORIES:Youth Sports
END:VEVENT
BEGIN:VEVENT
DTSTART;VALUE=DATE:20230901
DTEND;VALUE=DATE:20230902
DTSTAMP:20260422T070429
CREATED:20230407T191148Z
LAST-MODIFIED:20250616T194417Z
UID:10000419-1693526400-1693612799@northsummitrec.com
SUMMARY:Gymkhana Series
DESCRIPTION:Our Event has changed from August to September 1st
URL:https://northsummitrec.com/event/gymkhana-series-4/
CATEGORIES:Adult Sports,Youth Sports
END:VEVENT
BEGIN:VEVENT
DTSTART;TZID=America/Denver:20230828T183000
DTEND;TZID=America/Denver:20230829T200000
DTSTAMP:20260422T070429
CREATED:20230828T024449Z
LAST-MODIFIED:20250616T194236Z
UID:10000445-1693247400-1693339200@northsummitrec.com
SUMMARY:Special Meeting- August 28th 6:30 PM
DESCRIPTION:NSRSSD Agenda Special Meeting 8-28-23 \nCoalville City Water Service Agreement Board Packet (1) \nNS Rec Impact Fee notice short \nNSRecreationDistrictMap_
URL:https://northsummitrec.com/event/special-meeting-august-28th-630-pm/
CATEGORIES:Board Meetings,Youth Sports
END:VEVENT
BEGIN:VEVENT
DTSTART;TZID=America/Denver:20230802T083000
DTEND;TZID=America/Denver:20230802T113000
DTSTAMP:20260422T070429
CREATED:20230523T232745Z
LAST-MODIFIED:20251015T203346Z
UID:10000428-1690965000-1690975800@northsummitrec.com
SUMMARY:Youth Athletic Development Training
DESCRIPTION:5-8th Grade girls 8:30-10:00 AM \n5-8th Grade boys 10:00-11:30 AM \n  \nLearn More
URL:https://northsummitrec.com/event/youth-athletic-development-training-6/
LOCATION:North Summit Middle School\, 64 South 100 East\, Coalville\, Utah\, 84017
CATEGORIES:Youth Sports
END:VEVENT
BEGIN:VEVENT
DTSTART;TZID=America/Denver:20230725T080000
DTEND;TZID=America/Denver:20230729T220000
DTSTAMP:20260422T070429
CREATED:20230725T175411Z
LAST-MODIFIED:20251015T203340Z
UID:10000437-1690272000-1690668000@northsummitrec.com
SUMMARY:NSRSSD Special Meeting July 27th
DESCRIPTION:Meeting location is at the Summit County Courthouse Room 1 (By Public Entrance) \nNSRSSD Agenda Special Meeting July 7-27-23  \nNSSRD Policies  \n NSSRD Outdoor Sports Complex City Review \nAdminstrative Policies and procedures 2023 \nBeacon Hill Bathroom Plan \nBy Laws \nConcessions With hood \nConcessions with out hood
URL:https://northsummitrec.com/event/nsrssd-special-meeting-july-27th/
CATEGORIES:Board Meetings,Youth Sports
END:VEVENT
BEGIN:VEVENT
DTSTART;TZID=America/Denver:20230717T083000
DTEND;TZID=America/Denver:20230717T113000
DTSTAMP:20260422T070429
CREATED:20230523T231854Z
LAST-MODIFIED:20251015T203335Z
UID:10000424-1689582600-1689593400@northsummitrec.com
SUMMARY:Youth Athletic Development Training
DESCRIPTION:5-8th Grade girls 8:30-10:00 AM \n5-8th Grade boys 10:00-11:30 AM \n  \nLearn More
URL:https://northsummitrec.com/event/youth-athletic-development-training-2/
LOCATION:North Summit Middle School\, 64 South 100 East\, Coalville\, Utah\, 84017
CATEGORIES:Youth Sports
END:VEVENT
BEGIN:VEVENT
DTSTART;VALUE=DATE:20230714
DTEND;VALUE=DATE:20230715
DTSTAMP:20260422T070429
CREATED:20230407T191119Z
LAST-MODIFIED:20251015T203329Z
UID:10000418-1689292800-1689379199@northsummitrec.com
SUMMARY:Gymkhana Series
DESCRIPTION:
URL:https://northsummitrec.com/event/gymkhana-series-3/
CATEGORIES:Adult Sports,Youth Sports
END:VEVENT
BEGIN:VEVENT
DTSTART;TZID=America/Denver:20230710T083000
DTEND;TZID=America/Denver:20230710T233000
DTSTAMP:20260422T070429
CREATED:20230523T231816Z
LAST-MODIFIED:20251015T203321Z
UID:10000423-1688977800-1689031800@northsummitrec.com
SUMMARY:Youth Athletic Development Training
DESCRIPTION:5-8th Grade girls 8:30-10:00 AM \n5-8th Grade boys 10:00-11:30 AM \n  \nLearn More
URL:https://northsummitrec.com/event/youth-athletic-development-training/
LOCATION:North Summit Middle School\, 64 South 100 East\, Coalville\, Utah\, 84017
CATEGORIES:Youth Sports
END:VEVENT
BEGIN:VEVENT
DTSTART;TZID=America/Denver:20230706T083000
DTEND;TZID=America/Denver:20230706T233000
DTSTAMP:20260422T070429
CREATED:20230523T231636Z
LAST-MODIFIED:20251015T203316Z
UID:10000422-1688632200-1688686200@northsummitrec.com
SUMMARY:Youth Athletic Development Training
DESCRIPTION:5-8th Grade girls 8:30-10:00 AM \n5-8th Grade boys 10:00-11:30 AM \n  \nLearn More
URL:https://northsummitrec.com/event/sports-performance-camp/
LOCATION:North Summit Middle School\, 64 South 100 East\, Coalville\, Utah\, 84017
CATEGORIES:Youth Sports
END:VEVENT
BEGIN:VEVENT
DTSTART;VALUE=DATE:20230701
DTEND;VALUE=DATE:20230702
DTSTAMP:20260422T070429
CREATED:20230523T233620Z
LAST-MODIFIED:20251015T203313Z
UID:10000434-1688169600-1688255999@northsummitrec.com
SUMMARY:Youth Athletic Development Training - Registration Closes
DESCRIPTION:Work on speed\, agility\, footwork and strength with this summer’s athletic development training! Body weight used for our younger kids; older kids will be learning basics of using the weight room. \nLearn More
URL:https://northsummitrec.com/event/youth-athletic-development-training-registration-closes/
CATEGORIES:Youth Sports
END:VEVENT
BEGIN:VEVENT
DTSTART;VALUE=DATE:20230630
DTEND;VALUE=DATE:20230701
DTSTAMP:20260422T070429
CREATED:20230407T191053Z
LAST-MODIFIED:20251015T203309Z
UID:10000417-1688083200-1688169599@northsummitrec.com
SUMMARY:Gymkhana Series
DESCRIPTION:
URL:https://northsummitrec.com/event/gymkhana-series-2/
CATEGORIES:Adult Sports,Youth Sports
END:VEVENT
BEGIN:VEVENT
DTSTART;TZID=America/Denver:20230612T080000
DTEND;TZID=America/Denver:20230614T170000
DTSTAMP:20260422T070429
CREATED:20230505T015200Z
LAST-MODIFIED:20251015T203253Z
UID:10000421-1686556800-1686762000@northsummitrec.com
SUMMARY:Kennady McQueen Basketball Camp
DESCRIPTION:https://north-summit-recreation-special-service-district.sportngin.com/register/form/856288784 \n 
URL:https://northsummitrec.com/event/kennady-mcqueen-basketball-camp/
CATEGORIES:Youth Sports
END:VEVENT
BEGIN:VEVENT
DTSTART;VALUE=DATE:20230528
DTEND;VALUE=DATE:20230529
DTSTAMP:20260422T070429
CREATED:20230523T233252Z
LAST-MODIFIED:20251015T203249Z
UID:10000433-1685232000-1685318399@northsummitrec.com
SUMMARY:Kennady Basketball Camp - Registration Closes
DESCRIPTION:Improve your basketball skills with our summer basketball camp directed by Kennady McQueen with additional instructions by Teya Sidberry U of U’s  Forward and Halle Neilson Ut. State’s Guard/Forward. Camp T-shirts are included in registration fee. Kennady is a former Lady Brave\, 2020 MS Basketball Utah\, 2022 Gatorade player of the year\, and University of Utah’s shooting guard. \n  \nLearn More
URL:https://northsummitrec.com/event/youth-basketball-camp-registration-closes/
CATEGORIES:Youth Sports
END:VEVENT
BEGIN:VEVENT
DTSTART;VALUE=DATE:20230519
DTEND;VALUE=DATE:20230520
DTSTAMP:20260422T070429
CREATED:20230407T191026Z
LAST-MODIFIED:20251015T203243Z
UID:10000416-1684454400-1684540799@northsummitrec.com
SUMMARY:Gymkhana Series
DESCRIPTION:
URL:https://northsummitrec.com/event/gymkhana-series/
LOCATION:Summit County Fair Grounds\, 202 Park Rd\, Coalville\, UT\, 84017
CATEGORIES:Adult Sports,Youth Sports
END:VEVENT
BEGIN:VEVENT
DTSTART;VALUE=DATE:20230313
DTEND;VALUE=DATE:20230314
DTSTAMP:20260422T070429
CREATED:20230213T180156Z
LAST-MODIFIED:20251015T203423Z
UID:10000413-1678665600-1678751999@northsummitrec.com
SUMMARY:Youth Flag Football Late Registration Deadline
DESCRIPTION:Youth Flag Football registration will be open until March\, 13 but a $15 late fee will be added to your registration fee between March 10th and 13th. \nRegister Now\nLearn More
URL:https://northsummitrec.com/event/youth-flag-football-late-registration-deadline/
LOCATION:North Summit Football Field\, 53 South 100 East\, Coalville\, UT\, 84017\, United States
CATEGORIES:Registration,Youth Sports
END:VEVENT
BEGIN:VEVENT
DTSTART;VALUE=DATE:20230313
DTEND;VALUE=DATE:20230314
DTSTAMP:20260422T070429
CREATED:20230213T174602Z
LAST-MODIFIED:20251015T203443Z
UID:10000410-1678665600-1678751999@northsummitrec.com
SUMMARY:Youth Volleyball Late Deadline
DESCRIPTION:Register Now\nLearn More
URL:https://northsummitrec.com/event/youth-volleyball-late-deadline/
LOCATION:North Summit Middle School\, 64 South 100 East\, Coalville\, Utah\, 84017
CATEGORIES:Registration,Youth Sports
END:VEVENT
BEGIN:VEVENT
DTSTART;VALUE=DATE:20230310
DTEND;VALUE=DATE:20230311
DTSTAMP:20260422T070429
CREATED:20230213T180029Z
LAST-MODIFIED:20251015T203709Z
UID:10000412-1678406400-1678492799@northsummitrec.com
SUMMARY:Youth Football Registration Deadline
DESCRIPTION:Youth Flag Football registration will be open until March\, 13 but a $15 late fee will be added to your registration fee between March 10th and 13th. \nRegister Now\nLearn More
URL:https://northsummitrec.com/event/youth-football-registration-deadline/
LOCATION:North Summit Football Field\, 53 South 100 East\, Coalville\, UT\, 84017\, United States
CATEGORIES:Registration,Youth Sports
END:VEVENT
BEGIN:VEVENT
DTSTART;VALUE=DATE:20230310
DTEND;VALUE=DATE:20230311
DTSTAMP:20260422T070429
CREATED:20230213T174443Z
LAST-MODIFIED:20251015T203706Z
UID:10000409-1678406400-1678492799@northsummitrec.com
SUMMARY:Youth Volleyball Registration Deadline
DESCRIPTION:Youth Volleyball registration will be open until March\, 13 but a $15 late fee will be added to your registration fee. \nRegister Now\nLearn More
URL:https://northsummitrec.com/event/youth-volleyball-registration-deadline/
LOCATION:North Summit Middle School\, 64 South 100 East\, Coalville\, Utah\, 84017
CATEGORIES:Registration,Youth Sports
END:VEVENT
BEGIN:VEVENT
DTSTART;TZID=America/Denver:20230308T170000
DTEND;TZID=America/Denver:20230308T183000
DTSTAMP:20260422T070429
CREATED:20230308T142157Z
LAST-MODIFIED:20251015T203702Z
UID:10000415-1678294800-1678300200@northsummitrec.com
SUMMARY:Special Meeting Wed March 8th (5:15 PM)
DESCRIPTION:NSRSSD Agenda Special Meeting 3-8-23 \n021323 NSRD PA_ SV_CC PH SR_PACKET.c (1) \nRedesign (1)
URL:https://northsummitrec.com/event/special-meeting-wed-march-8th/
CATEGORIES:Youth Sports
END:VEVENT
BEGIN:VEVENT
DTSTART;TZID=America/Denver:20230302T080000
DTEND;TZID=America/Denver:20230306T233000
DTSTAMP:20260422T070429
CREATED:20230302T204504Z
LAST-MODIFIED:20251015T203700Z
UID:10000414-1677744000-1678145400@northsummitrec.com
SUMMARY:NSSRD Board Meeting March 6th 2023
DESCRIPTION:NSRSSD Agenda 3-6-23
URL:https://northsummitrec.com/event/nssrd-board-meeting-march-6th-2023/
CATEGORIES:Youth Sports
END:VEVENT
BEGIN:VEVENT
DTSTART;TZID=America/Denver:20230213T180000
DTEND;TZID=America/Denver:20230213T200000
DTSTAMP:20260422T070429
CREATED:20230210T015436Z
LAST-MODIFIED:20251015T203657Z
UID:10000407-1676311200-1676318400@northsummitrec.com
SUMMARY:Public notice- NS Recreation/Coalville City Meeting
DESCRIPTION:2.13.23 CC Agenda\n  \nUtah Public Notice\n\n\nNorth Summit Recreation Administrative Control Board\nNorth Summit Recreation /Coalville City Meeting\nNotice Date & Time: 2/13/23 6:00 PM -2/13/23 10:00 PM \nDescription/Agenda:\n        NORTH SUMMIT RECREATION SPECIAL SERVICE DISTRICT\nMEETING NOTICE AND AGENDA\n \n \nNotice is hereby given that the North Summit Recreation Special Service District will meet at the Coalville City Hall on Monday\, February 13th\, 2023.\n  \nAn updated agenda can be found at the North Summit Recreation website\nhttps://northsummitrec.com/\n\n \nThe meeting will start at 6:00 pm at the Coalville City Hall\n10 North Main Street\, Coalville\, Utah 84017\n \n \nThe agenda will follow the Coalville City Agenda\n \n \nThe NSRSSD board members will be attending to give any information \nthat Coalville City may need in their discussion and possible decision about \nthe plat amendment at the Beacon Hill Property.\n \n \n \n                                                                \nNotice of Special Accommodations:\nPursuant to the Americans with Disabilities Act\, individuals needing special accommodations during this meeting should notify Coalville City at (435) 336-5981. \nNotice of Electronic or telephone participation:\nNA \nOther information:\nThe NSRSSD may have more than three members attending the Coalville City Council Meeting\, \nLocation:\n10 North\, Coalville\, 84017 \nContact information:\nPBM-00000059 \, ad@nsrecreation.com\, 4353367322
URL:https://northsummitrec.com/event/public-notice-ns-recreation-coalville-city-meeting/
CATEGORIES:Youth Sports
END:VEVENT
BEGIN:VEVENT
DTSTART;VALUE=DATE:20230213
DTEND;VALUE=DATE:20230214
DTSTAMP:20260422T070429
CREATED:20230213T175834Z
LAST-MODIFIED:20251015T203525Z
UID:10000411-1676246400-1676332799@northsummitrec.com
SUMMARY:Youth Flag Football Registration Opens
DESCRIPTION:Register Now\nLearn More
URL:https://northsummitrec.com/event/youth-flag-football-registration-opens/
LOCATION:North Summit Football Field\, 53 South 100 East\, Coalville\, UT\, 84017\, United States
CATEGORIES:Registration,Youth Sports
END:VEVENT
BEGIN:VEVENT
DTSTART;VALUE=DATE:20230213
DTEND;VALUE=DATE:20230214
DTSTAMP:20260422T070429
CREATED:20230213T174051Z
LAST-MODIFIED:20251015T203521Z
UID:10000408-1676246400-1676332799@northsummitrec.com
SUMMARY:Youth Volleyball (Camp) Registration Opens
DESCRIPTION:Register Now\n  \nLearn More
URL:https://northsummitrec.com/event/youth-volleyball-camp-registration-deadline/
LOCATION:North Summit Middle School\, 64 South 100 East\, Coalville\, Utah\, 84017
CATEGORIES:Registration,Youth Sports
END:VEVENT
BEGIN:VEVENT
DTSTART;VALUE=DATE:20221210
DTEND;VALUE=DATE:20221211
DTSTAMP:20260422T070429
CREATED:20221126T025404Z
LAST-MODIFIED:20251015T203508Z
UID:10000394-1670630400-1670716799@northsummitrec.com
SUMMARY:Start of 2022 Basketball Season
DESCRIPTION:We are excited for another year of basketball! View Teams and Schedules.
URL:https://northsummitrec.com/event/all-teams-schedules-basketball-22-23/
CATEGORIES:Youth Sports
END:VEVENT
BEGIN:VEVENT
DTSTART;TZID=America/Denver:20221111T170000
DTEND;TZID=America/Denver:20221112T200000
DTSTAMP:20260422T070429
CREATED:20221003T130128Z
LAST-MODIFIED:20251015T203714Z
UID:10000390-1668186000-1668283200@northsummitrec.com
SUMMARY:3 on 3 Turkey Tournament
DESCRIPTION:Basketball Tournament Flyer (1) \n  \nUse this link to register- \nhttps://north-summit-recreation-special-service-district.sportngin.com/register/form/415923005
URL:https://northsummitrec.com/event/3-on-3-turkey-tournament/
LOCATION:North Summit Middle School\, 64 South 100 East\, Coalville\, Utah\, 84017
CATEGORIES:Youth Sports
END:VEVENT
BEGIN:VEVENT
DTSTART;TZID=America/Denver:20221111T170000
DTEND;TZID=America/Denver:20221112T200000
DTSTAMP:20260422T070429
CREATED:20221003T130128Z
LAST-MODIFIED:20251015T203505Z
UID:10000391-1668186000-1668283200@northsummitrec.com
SUMMARY:3 on 3 Turkey Tournament
DESCRIPTION:Basketball Tournament Flyer (1) \n  \nUse this link to register- \nhttps://north-summit-recreation-special-service-district.sportngin.com/register/form/415923005
URL:https://northsummitrec.com/event/3-on-3-turkey-tournament-2/
LOCATION:North Summit Middle School\, 64 South 100 East\, Coalville\, Utah\, 84017
CATEGORIES:Youth Sports
END:VEVENT
END:VCALENDAR