BEGIN:VCALENDAR
VERSION:2.0
PRODID:-//North Summit Recreation - ECPv6.15.15//NONSGML v1.0//EN
CALSCALE:GREGORIAN
METHOD:PUBLISH
X-ORIGINAL-URL:https://northsummitrec.com
X-WR-CALDESC:Events for North Summit Recreation
REFRESH-INTERVAL;VALUE=DURATION:PT1H
X-Robots-Tag:noindex
X-PUBLISHED-TTL:PT1H
BEGIN:VTIMEZONE
TZID:America/Denver
BEGIN:DAYLIGHT
TZOFFSETFROM:-0700
TZOFFSETTO:-0600
TZNAME:MDT
DTSTART:20220313T090000
END:DAYLIGHT
BEGIN:STANDARD
TZOFFSETFROM:-0600
TZOFFSETTO:-0700
TZNAME:MST
DTSTART:20221106T080000
END:STANDARD
BEGIN:DAYLIGHT
TZOFFSETFROM:-0700
TZOFFSETTO:-0600
TZNAME:MDT
DTSTART:20230312T090000
END:DAYLIGHT
BEGIN:STANDARD
TZOFFSETFROM:-0600
TZOFFSETTO:-0700
TZNAME:MST
DTSTART:20231105T080000
END:STANDARD
BEGIN:DAYLIGHT
TZOFFSETFROM:-0700
TZOFFSETTO:-0600
TZNAME:MDT
DTSTART:20240310T090000
END:DAYLIGHT
BEGIN:STANDARD
TZOFFSETFROM:-0600
TZOFFSETTO:-0700
TZNAME:MST
DTSTART:20241103T080000
END:STANDARD
END:VTIMEZONE
BEGIN:VEVENT
DTSTART;VALUE=DATE:20230909
DTEND;VALUE=DATE:20230910
DTSTAMP:20260422T104315
CREATED:20230811T004258Z
LAST-MODIFIED:20250616T194310Z
UID:10000444-1694217600-1694303999@northsummitrec.com
SUMMARY:James Family Reunion-Park Reservation
DESCRIPTION:Beacon Hill Park will be reserved for the James Family from 12-4 PM on September 9th
URL:https://northsummitrec.com/event/james-family-reunion-park-reservation/
CATEGORIES:Beacon Hill Park Reservations
END:VEVENT
BEGIN:VEVENT
DTSTART;VALUE=DATE:20230819
DTEND;VALUE=DATE:20230820
DTSTAMP:20260422T104315
CREATED:20230804T212413Z
LAST-MODIFIED:20250616T194250Z
UID:10000442-1692403200-1692489599@northsummitrec.com
SUMMARY:Sargent Family Party
DESCRIPTION:Jill Sargent
URL:https://northsummitrec.com/event/sargent-family-party/
CATEGORIES:Beacon Hill Park Reservations
END:VEVENT
BEGIN:VEVENT
DTSTART;VALUE=DATE:20230814
DTEND;VALUE=DATE:20230815
DTSTAMP:20260422T104315
CREATED:20230804T213345Z
LAST-MODIFIED:20251015T203353Z
UID:10000443-1691971200-1692057599@northsummitrec.com
SUMMARY:Yoga for seniors
DESCRIPTION:Let’s Move yoga. \n2-3PM
URL:https://northsummitrec.com/event/yoga-for-seniors/
CATEGORIES:Beacon Hill Park Reservations
END:VEVENT
BEGIN:VEVENT
DTSTART;TZID=America/Denver:20230805T100000
DTEND;TZID=America/Denver:20230805T140000
DTSTAMP:20260422T104315
CREATED:20230804T212135Z
LAST-MODIFIED:20251015T203350Z
UID:10000440-1691229600-1691244000@northsummitrec.com
SUMMARY:North Summit Reunion
DESCRIPTION:Ashlin Pickering
URL:https://northsummitrec.com/event/north-summit-reunion/
CATEGORIES:Beacon Hill Park Reservations
END:VEVENT
BEGIN:VEVENT
DTSTART;VALUE=DATE:20230729
DTEND;VALUE=DATE:20230730
DTSTAMP:20260422T104315
CREATED:20230725T215800Z
LAST-MODIFIED:20251015T203344Z
UID:10000438-1690588800-1690675199@northsummitrec.com
SUMMARY:Park Reservation
DESCRIPTION:Park reserved from 10:00 AM-2:00 PM
URL:https://northsummitrec.com/event/park-reservation/
CATEGORIES:Beacon Hill Park Reservations
END:VEVENT
BEGIN:VEVENT
DTSTART;TZID=America/Denver:20230623T140000
DTEND;TZID=America/Denver:20230623T170000
DTSTAMP:20260422T104315
CREATED:20230614T211205Z
LAST-MODIFIED:20251015T203305Z
UID:10000435-1687528800-1687539600@northsummitrec.com
SUMMARY:Test Park Reservation
DESCRIPTION:test
URL:https://northsummitrec.com/event/test-park-reservation/
CATEGORIES:Beacon Hill Park Reservations
END:VEVENT
END:VCALENDAR