BEGIN:VCALENDAR
VERSION:2.0
PRODID:-//North Summit Recreation - ECPv6.15.15//NONSGML v1.0//EN
CALSCALE:GREGORIAN
METHOD:PUBLISH
X-WR-CALNAME:North Summit Recreation
X-ORIGINAL-URL:https://northsummitrec.com
X-WR-CALDESC:Events for North Summit Recreation
REFRESH-INTERVAL;VALUE=DURATION:PT1H
X-Robots-Tag:noindex
X-PUBLISHED-TTL:PT1H
BEGIN:VTIMEZONE
TZID:America/Denver
BEGIN:DAYLIGHT
TZOFFSETFROM:-0700
TZOFFSETTO:-0600
TZNAME:MDT
DTSTART:20220313T090000
END:DAYLIGHT
BEGIN:STANDARD
TZOFFSETFROM:-0600
TZOFFSETTO:-0700
TZNAME:MST
DTSTART:20221106T080000
END:STANDARD
BEGIN:DAYLIGHT
TZOFFSETFROM:-0700
TZOFFSETTO:-0600
TZNAME:MDT
DTSTART:20230312T090000
END:DAYLIGHT
BEGIN:STANDARD
TZOFFSETFROM:-0600
TZOFFSETTO:-0700
TZNAME:MST
DTSTART:20231105T080000
END:STANDARD
BEGIN:DAYLIGHT
TZOFFSETFROM:-0700
TZOFFSETTO:-0600
TZNAME:MDT
DTSTART:20240310T090000
END:DAYLIGHT
BEGIN:STANDARD
TZOFFSETFROM:-0600
TZOFFSETTO:-0700
TZNAME:MST
DTSTART:20241103T080000
END:STANDARD
END:VTIMEZONE
BEGIN:VEVENT
DTSTART;VALUE=DATE:20230313
DTEND;VALUE=DATE:20230314
DTSTAMP:20260425T092621
CREATED:20230213T174602Z
LAST-MODIFIED:20251015T203443Z
UID:10000410-1678665600-1678751999@northsummitrec.com
SUMMARY:Youth Volleyball Late Deadline
DESCRIPTION:Register Now\nLearn More
URL:https://northsummitrec.com/event/youth-volleyball-late-deadline/
LOCATION:North Summit Middle School\, 64 South 100 East\, Coalville\, Utah\, 84017
CATEGORIES:Registration,Youth Sports
END:VEVENT
BEGIN:VEVENT
DTSTART;VALUE=DATE:20230313
DTEND;VALUE=DATE:20230314
DTSTAMP:20260425T092621
CREATED:20230213T180156Z
LAST-MODIFIED:20251015T203423Z
UID:10000413-1678665600-1678751999@northsummitrec.com
SUMMARY:Youth Flag Football Late Registration Deadline
DESCRIPTION:Youth Flag Football registration will be open until March\, 13 but a $15 late fee will be added to your registration fee between March 10th and 13th. \nRegister Now\nLearn More
URL:https://northsummitrec.com/event/youth-flag-football-late-registration-deadline/
LOCATION:North Summit Football Field\, 53 South 100 East\, Coalville\, UT\, 84017\, United States
CATEGORIES:Registration,Youth Sports
END:VEVENT
BEGIN:VEVENT
DTSTART;TZID=America/Denver:20230313T183000
DTEND;TZID=America/Denver:20230313T200000
DTSTAMP:20260425T092621
CREATED:20230106T035240Z
LAST-MODIFIED:20251015T203419Z
UID:10000397-1678732200-1678737600@northsummitrec.com
SUMMARY:NSRSSD Advisor Board Meeting*CANCELED
DESCRIPTION:Board meetings are held at 6:30 at the Summit County Court House in Coalville.
URL:https://northsummitrec.com/event/nsrssd-advisor-board-meeting-22/
LOCATION:Summit County Courthouse\, 60 N Main St\, Coalville\, UT\, 84017\, United States
CATEGORIES:Board Meetings
END:VEVENT
END:VCALENDAR